BEGIN:VCALENDAR
VERSION:2.0
PRODID:-//Logona - ECPv6.9.0//NONSGML v1.0//EN
CALSCALE:GREGORIAN
METHOD:PUBLISH
X-WR-CALNAME:Logona
X-ORIGINAL-URL:https://logona.rs
X-WR-CALDESC:Events for Logona
REFRESH-INTERVAL;VALUE=DURATION:PT1H
X-Robots-Tag:noindex
X-PUBLISHED-TTL:PT1H
BEGIN:VTIMEZONE
TZID:Europe/Paris
BEGIN:DAYLIGHT
TZOFFSETFROM:+0100
TZOFFSETTO:+0200
TZNAME:CEST
DTSTART:20250330T010000
END:DAYLIGHT
BEGIN:STANDARD
TZOFFSETFROM:+0200
TZOFFSETTO:+0100
TZNAME:CET
DTSTART:20251026T010000
END:STANDARD
END:VTIMEZONE
BEGIN:VEVENT
DTSTART;TZID=Europe/Paris:20250423T150000
DTEND;TZID=Europe/Paris:20250423T180000
DTSTAMP:20260419T210918
CREATED:20250403T085535Z
LAST-MODIFIED:20250403T085535Z
UID:24800-1745420400-1745431200@logona.rs
SUMMARY:15-18h Lilly NS - Jevrejska 2
DESCRIPTION:
URL:https://logona.rs/promocija/15-18h-lilly-ns-jevrejska-2-4/
LOCATION:Lilly Jevrejska\, Jevrejska 2\, Novi Sad\, Srbija
CATEGORIES:Promocije
END:VEVENT
BEGIN:VEVENT
DTSTART;TZID=Europe/Paris:20250423T120000
DTEND;TZID=Europe/Paris:20250423T150000
DTSTAMP:20260419T210918
CREATED:20250403T110151Z
LAST-MODIFIED:20250403T110151Z
UID:24841-1745409600-1745420400@logona.rs
SUMMARY:12-15h Lilly BG - Krušedolska 1
DESCRIPTION:
URL:https://logona.rs/promocija/12-15h-lilly-bg-krusedolska-1/
CATEGORIES:Promocije
END:VEVENT
END:VCALENDAR